BEGIN:VCALENDAR
VERSION:2.0
PRODID:Events Booking
BEGIN:VEVENT
UID:69eadb38769a7
SUMMARY:Exposition de voitures à la Foire Metcalfe 
DESCRIPTION:Pour information seulement
LOCATION:2821 8th Line Road\, Metcalfe ON K0A 2P0
DTSTART:20221002T120000Z
DTEND:20221002T200000Z
DTSTAMP:20220404T033121Z
ORGANIZER;CN=Divertissement:MAILTO:divertissement@clubmustangoutaouais.ca
GEO:45.228992;-75.468603
X-APPLE-STRUCTURED-LOCATION;VALUE=URI;X-ADDRESS=2821 8th Line Road\, Metcal
 fe ON K0A 2P0;X-APPLE-RADIUS=72;X-TITLE=Foire Metcalfe:45.228992;-75.46860
 3
END:VEVENT
END:VCALENDAR