BEGIN:VCALENDAR
VERSION:2.0
PRODID:Events Booking
BEGIN:VEVENT
UID:69eac463515bc
SUMMARY:Journée VIP - Napa Pièces d'auto Courchesne
DESCRIPTION:Pour information seulement
LOCATION:840 boul. St-Joseph\, Gatineau
DTSTART:20220601T140000Z
DTEND:20220601T200000Z
DTSTAMP:20220419T155159Z
ORGANIZER;CN=Divertissement:MAILTO:divertissement@clubmustangoutaouais.ca
GEO:45.464452;-75.738689
X-APPLE-STRUCTURED-LOCATION;VALUE=URI;X-ADDRESS=840 boul. St-Joseph\, Gatin
 eau;X-APPLE-RADIUS=72;X-TITLE=Napa Pièces auto Courchesne:45.464452;-75.7
 38689
END:VEVENT
END:VCALENDAR