BEGIN:VCALENDAR
VERSION:2.0
PRODID:Events Booking
BEGIN:VEVENT
UID:69eac608c5e46
SUMMARY:Bénédiction de Mustang 2020 - Organisé par le Club Mustang Hawke
 sbury
DESCRIPTION:INFO :
 Organisé par le Club Mustang Hawkesbury
 Le dimanche
  29 mai\, c'est la Bénédiction des gens et des Mustangs à la messe de L
 ourdes à Rigaud.
 Départ à 10h du Tim Horton près de la 17 à Hawkesb
 ury\, apportez votre LUNCH\, ils pique-niqueront à Rigaud\, suivi d'une b
 alade à travers Pointe au Cascades (arrêt) Les Cèdres\, Les coteaux\, S
 t Polycarpe et plusieurs autres villages.
 Nous demanderons 5 $ par voitu
 re pour les bénédictions.
 Si vous êtes intéressé à participer\, ve
 uillez vous rendre sur leur site Facebook et ajouter votre nom sur leur an
 nonce.
 Alain - Club Mustang Hawkesbury
DTSTART:20220529T140000Z
DTEND:20220529T200000Z
DTSTAMP:20220528T004051Z
ORGANIZER;CN=Divertissement:MAILTO:divertissement@clubmustangoutaouais.ca
END:VEVENT
END:VCALENDAR