BEGIN:VCALENDAR
VERSION:2.0
PRODID:Events Booking
BEGIN:VEVENT
UID:69eadef5d6798
SUMMARY:Granby International - Exposition de voitures anciennes
DESCRIPTION:
DTSTART:20230728T040000Z
DTEND:20230730T040000Z
DTSTAMP:20221231T050231Z
ORGANIZER;CN=Divertissement:MAILTO:divertissement@clubmustangoutaouais.ca
END:VEVENT
END:VCALENDAR