BEGIN:VCALENDAR
VERSION:2.0
PRODID:Events Booking
BEGIN:VEVENT
UID:69eadf9ae9d36
SUMMARY:Sema Show 2023 au Las Vegas Convention Center
DESCRIPTION:
DTSTART:20231031T040000Z
DTEND:20231103T040000Z
DTSTAMP:20221231T050904Z
ORGANIZER;CN=Divertissement:MAILTO:divertissement@clubmustangoutaouais.ca
END:VEVENT
END:VCALENDAR