BEGIN:VCALENDAR
VERSION:2.0
PRODID:Events Booking
BEGIN:VEVENT
UID:69eade0158858
SUMMARY:Exposition Internationale d'Autos de Lévis
DESCRIPTION:
LOCATION:4176\, route des Rivières\, Lévis\, Québec G6J 1J4
DTSTART:20230909T040000Z
DTEND:20230909T040000Z
DTSTAMP:20230122T233631Z
ORGANIZER;CN=Divertissement:MAILTO:divertissement@clubmustangoutaouais.ca
GEO:46.64983;-71.30447
X-APPLE-STRUCTURED-LOCATION;VALUE=URI;X-ADDRESS=4176\, route des Rivières\
 , Lévis\, Québec G6J 1J4;X-APPLE-RADIUS=72;X-TITLE=Exposition Internatio
 nale d'autos de Lévis:46.64983;-71.30447
END:VEVENT
END:VCALENDAR