BEGIN:VCALENDAR
VERSION:2.0
PRODID:Events Booking
BEGIN:VEVENT
UID:69eac313198e9
SUMMARY:Hawkesbury Auto Show - 25ième anniversaire
DESCRIPTION:Le CMO participera dimanche le 3 septembre
DTSTART:20230902T120000Z
DTEND:20230903T200000Z
DTSTAMP:20230219T015527Z
ORGANIZER;CN=Divertissement:MAILTO:divertissement@clubmustangoutaouais.ca
END:VEVENT
END:VCALENDAR