BEGIN:VCALENDAR
VERSION:2.0
PRODID:Events Booking
BEGIN:VEVENT
UID:69ea3f5041a95
SUMMARY:Dîner Cabane à Sucre au Domaine de l'Ange-Gardien
DESCRIPTION:Pour les membres inscrits du Club Mustang Outaouais seulement.
   Si vous désirez devenir membre du club\, veuillez vous inscrire en lig
 ne sur notre site Internet www.clubmustangoutaouais.ca.
  
 Bonjour\,

  Vous êtes invité à vous joindre à nous pour notre première sortie 20
 23\, soit un dîner à la Cabane à Sucre au Domaine de l’Ange-Gardien. 
 Vous n’êtes pas obligé de venir en Mustang si la température ou les c
 hemins ne sont pas adéquat\, et il n’y aura pas de départ commun\, on 
 se rencontreras tous vers 10h30 au Domaine.
 Le prix du dîner est de 31\
 ,60 $ plus taxe par personne\, et vous devez acheter vos billets en ligne 
 avant le 11 mars 2023. Veuillez consulter l'invitation qui vous a été en
 voyée par courriel pour connaître le lien fourni par la cabane à sucre 
 pour acheter les billets.  
 Après l'achat de vos billets en ligne\, v
 euillez s'il vous plaît vous inscrire sur notre site web\, www.clubmusta
 ngoutaouais.ca\, afin que nous puissions tenir le compte de ceux qui seron
 t présent.
 Adresse : Cabane à sucre au Domaine de l’Ange-Gardien\,
  1031 Chemin Pierre-Laporte\, L'Ange-Gardien
 Modalités d’achat/annul
 ation : Remboursement complet jusqu’à 10 jours avant la date prévue d
 u repas.  Des frais de 10% seront retenus pour annulation à moins de 10
  jours du repas.  Aucun remboursement dans les 48 heures précédant le 
 repas.  Remboursement total en cas d’annulation par le commerçant.
 
  
 Au plaisir de se revoir bientôt.
LOCATION:1031\, chemin Pierre-Laporte\, L'Ange-Gardien\, Qc J8L 0E9
DTSTART:20230423T150000Z
DTEND:20230423T180000Z
DTSTAMP:20230219T033829Z
ORGANIZER;CN=Divertissement:MAILTO:divertissement@clubmustangoutaouais.ca
GEO:45.57152;-75.516885
X-APPLE-STRUCTURED-LOCATION;VALUE=URI;X-ADDRESS=1031\, chemin Pierre-Laport
 e\, L'Ange-Gardien\, Qc J8L 0E9;X-APPLE-RADIUS=72;X-TITLE=Le Domaine de L'
 Ange Gardien - Cabane à Sucre:45.57152;-75.516885
END:VEVENT
END:VCALENDAR