BEGIN:VCALENDAR
VERSION:2.0
PRODID:Events Booking
BEGIN:VEVENT
UID:69eb03e9ab7c3
SUMMARY:Réunion hebdomadaire du CMO
DESCRIPTION:Le Club Mustang Outaouais est un club social et amical qui rass
 emble les passionnées de Mustang.
 Venez nous rencontrer tous les jeudis
 \, de 18h00 à 21h30 chez Always Mike\, situé au 200 blvd Gréger Gatinea
 u.
LOCATION:200 Boul. Gréber\, Gatineau\, QC J8T 6K2
DTSTART:20230824T220000Z
DTEND:20230825T013000Z
DTSTAMP:20230518T044248Z
ORGANIZER;CN=Divertissement:MAILTO:divertissement@clubmustangoutaouais.ca
GEO:45.473366;-75.702418
X-APPLE-STRUCTURED-LOCATION;VALUE=URI;X-ADDRESS=200 Boul. Gréber\, Gatinea
 u\, QC J8T 6K2;X-APPLE-RADIUS=72;X-TITLE=200 boul Gréber - Lieu rencontre
 :45.473366;-75.702418
END:VEVENT
END:VCALENDAR