BEGIN:VCALENDAR
VERSION:2.0
PRODID:Events Booking
BEGIN:VEVENT
UID:69eb03e2d5550
SUMMARY:Visite du Ottawa Mustang Club
DESCRIPTION:Club Mustang Outaouais sera hôte de la rencontre avec le Ottaw
 a Mustang Club à cette date\, l'endroit du meet sera au Provigo Éric Cha
 rron pour cette fois seulement. 
 Cliquer sur l'hyperlien pour les direc
 tions à suivre. 
 https://goo.gl/maps/agykeg5UhscvV41eA
  
LOCATION:1 boul du Plateau\, Gatineau\, QC\, J9A 3G1
DTSTART:20230720T220000Z
DTEND:20230721T010000Z
DTSTAMP:20230529T043244Z
ORGANIZER;CN=Divertissement:MAILTO:divertissement@clubmustangoutaouais.ca
GEO:45.435178;-75.768646
X-APPLE-STRUCTURED-LOCATION;VALUE=URI;X-ADDRESS=1 boul du Plateau\, Gatinea
 u\, QC\, J9A 3G1;X-APPLE-RADIUS=72;X-TITLE=Marché Provigo Éric Charron:4
 5.435178;-75.768646
END:VEVENT
END:VCALENDAR