BEGIN:VCALENDAR
VERSION:2.0
PRODID:Events Booking
BEGIN:VEVENT
UID:69eac1ce9317c
SUMMARY:Souper Ottavio Gatineau
DESCRIPTION:Une belle occasion pour se réunir pour un bon souper entre ami
 s avant la période des Fêtes.
LOCATION:56 Boulevard Gréber\, Gatineau\, QC\, J8T 3P8
DTSTART:20231209T230000Z
DTEND:20231210T030000Z
DTSTAMP:20231008T054607Z
ORGANIZER;CN=Divertissement:MAILTO:divertissement@clubmustangoutaouais.ca
GEO:45.462071;-75.704742
X-APPLE-STRUCTURED-LOCATION;VALUE=URI;X-ADDRESS=56 Boulevard Gréber\, Gati
 neau\, QC\, J8T 3P8;X-APPLE-RADIUS=72;X-TITLE=Restaurant Ottavio Gatineau:
 45.462071;-75.704742
END:VEVENT
END:VCALENDAR