BEGIN:VCALENDAR
VERSION:2.0
PRODID:Events Booking
BEGIN:VEVENT
UID:69eac3d28879a
SUMMARY:Départ en groupe Gatineau - Trois-Rivières Record Mondial 2024
DESCRIPTION:Cette page du calendrier est dédiée aux Mustangers qui désir
 ent joindre le Club Mustang Outaouais qui partirait de Gatineau vers Trois
 -Rivières la veille soit le 4 mai 2024 pour participer au Record Mondial 
 2024 Mustang le 5 mai 2024. J'ai créé cette activité au calendrier pour
  être en mesure de confirmer et comptabiliser qui seront les participants
  enregistrés pour cette activité qui sera unique.  Je sais qu'il y a qu
 elques-uns de nos membres qui ont déjà complété leur inscription.   
 Je crois que ce serait une belle occasion de voyager ensemble pour se rend
 re à Trois-Riviéres.  Selon le taux de participation et l'intérêt\, j
 e préciserai le point de rencontre et l'heure de départ. 
 Pour ce qui 
 est d'ajouter vos noms au calendrier\, choisissez \"Inscription individuel
 le\" et vous pourrez inscrire des détails dans le bloc remarque.  
 Pou
 r inscription au Record Mondial Mustang 2024  https://form.jotform.com/2
 33183420251041?fbclid=IwAR00v857a-ItBYSYYrAjyfXavHZHYo-isgKaU13AcuAKyAqD_9
 ftjeCSVEo
 https://www.facebook.com/photo?fbid=6624373731025201&amp\;set=
 pcb.7012680665456351
 J'encourage chacun à participer à cette activité
  qui sera diffusée à grande échelle ! De plus amples détails suivront 
 dans les semaines à venir. 
  Questions\, vous pouvez me rejoindre\, 
  Sylvain Deshaies\, president@clubmustangoutaouais.ca
  
  
  
DTSTART:20240504T130000Z
DTEND:20240504T230000Z
DTSTAMP:20231210T102758Z
ORGANIZER;CN=Divertissement:MAILTO:divertissement@clubmustangoutaouais.ca
END:VEVENT
END:VCALENDAR