BEGIN:VCALENDAR
VERSION:2.0
PRODID:Events Booking
BEGIN:VEVENT
UID:69eaeb214dda8
SUMMARY:Ford Nationals 2024 Carlisle
DESCRIPTION:Le Club Mustang Outaouais organise une participation pour ses 
 membres au Carlisle Ford Nationals à Carlisle en Pennsylvanie pour l’é
 té 2024.   Ce sera une occasion unique de voir une quantité incroyable
  de véhicules Ford réunis en en un endroit.
 Célébration du 50e anniv
 ersaire de Carlisle Events et du 60e anniversaire de la Mustang\, 2024 ser
 a une année spéciale.
 Quand: départ jeudi 30 mai en matinée et reto
 ur dimanche\, 2 juin 2024
 Où:  Carlisle Fairgrounds\, 1000 Bryn Rd\, C
 arlisle\, PA\, 17013\, USA
 Lien: https://g.page/CarlisleFairgrounds?shar
 e
 Itinéraire proposée:  https://goo.gl/maps/mNvuB8FjeiCkXRpAA 
 Voi
 r les détails supplémentaires  pour la réservation de l'hôtel à la p
 ièce jointe. Vous devez être connecté pour la pièce jointe soit visibl
 e. 
  
  
  
LOCATION:1000 Bryn Mawr Road\, Carlisle\, Pennsylvania 17013
DTSTART:20240530T040000Z
DTEND:20240602T040000Z
DTSTAMP:20231228T220318Z
ORGANIZER;CN=Divertissement:MAILTO:divertissement@clubmustangoutaouais.ca
GEO:40.218201;-77.187418
X-APPLE-STRUCTURED-LOCATION;VALUE=URI;X-ADDRESS=1000 Bryn Mawr Road\, Carli
 sle\, Pennsylvania 17013;X-APPLE-RADIUS=72;X-TITLE=Carlisle Fairgrounds:40
 .218201;-77.187418
END:VEVENT
END:VCALENDAR