BEGIN:VCALENDAR
VERSION:2.0
PRODID:Events Booking
BEGIN:VEVENT
UID:69eadb6693c6c
SUMMARY:Salon International de l'auto Montréal
DESCRIPTION:
DTSTART:20240119T220000Z
DTEND:20240128T220000Z
DTSTAMP:20240112T120145Z
ORGANIZER;CN=Divertissement:MAILTO:divertissement@clubmustangoutaouais.ca
END:VEVENT
END:VCALENDAR