BEGIN:VCALENDAR
VERSION:2.0
PRODID:Events Booking
BEGIN:VEVENT
UID:69ead30f0567c
SUMMARY:Après-midi de Quilles
DESCRIPTION:Coût: $24.00 / personne (inclus paiement pour jouer aux quille
 s et location de chaussures).  Événement sera de 14h00 a 17h00\, par la
  suite les gens sont libres d'aller souper a un endroit de leur choix.
 C
 haque membre devra payer lors de son arrivée à la Salle.  Merci de con
 firmer votre présence pour jouer aux quilles d'ici de la fin de la journ
 ée du dimanche 18 fév 2024
  https://maps.app.goo.gl/dr5HiGgdh8QkcWb2A
LOCATION:500 Bd Gréber\, Gatineau\, QC J8T 7W3\, Canada
DTSTART:20240224T190000Z
DTEND:20240224T220000Z
DTSTAMP:20240203T032522Z
ORGANIZER;CN=Divertissement:MAILTO:divertissement@clubmustangoutaouais.ca
GEO:45.488604;-75.704318
X-APPLE-STRUCTURED-LOCATION;VALUE=URI;X-ADDRESS=500 Bd Gréber\, Gatineau\,
  QC J8T 7W3\, Canada;X-APPLE-RADIUS=72;X-TITLE=Salon de Quilles Gréber:45
 .488604;-75.704318
END:VEVENT
END:VCALENDAR