BEGIN:VCALENDAR
VERSION:2.0
PRODID:Events Booking
BEGIN:VEVENT
UID:69eadcd09eb3c
SUMMARY:Tir de camions et tracteurs - Quyon
DESCRIPTION:
LOCATION:24 Rue Ferry\, Quyon\, QC J0X 2V0
DTSTART:20240706T130000Z
DTEND:20240706T210000Z
DTSTAMP:20240219T023502Z
ORGANIZER;CN=Divertissement:MAILTO:divertissement@clubmustangoutaouais.ca
GEO:45.520559;-76.230506
X-APPLE-STRUCTURED-LOCATION;VALUE=URI;X-ADDRESS=24 Rue Ferry\, Quyon\, QC J
 0X 2V0;X-APPLE-RADIUS=72;X-TITLE=Tir de Camions et Tracteurs:45.520559;-76
 .230506
END:VEVENT
END:VCALENDAR