BEGIN:VCALENDAR
VERSION:2.0
PRODID:Events Booking
BEGIN:VEVENT
UID:69ead801de7f6
SUMMARY:Cabane à sucre Domaine du Cerf
DESCRIPTION:Joignez-nous pour une belle sortie à la Cabane à Sucre Domain
 e du Cerf au Lac Blue Sea.  Nous allons profiter de cette belle occasion 
 pour aller rencontrer nos amis membres Andrée St-Denis &amp\; Mario Tremb
 lay à leur entreprise familiale. Veuillez enregistrer le nombre personnes
  qui participeront.  Allons se sucrer le bec !! 
 
LOCATION:92 Mnt des Pins\, Blue Sea\, QC J0X 1C0
DTSTART:20240323T150000Z
DTEND:20240323T180000Z
DTSTAMP:20240301T064556Z
ORGANIZER;CN=Divertissement:MAILTO:divertissement@clubmustangoutaouais.ca
GEO:46.160115;-76.097554
X-APPLE-STRUCTURED-LOCATION;VALUE=URI;X-ADDRESS=92 Mnt des Pins\, Blue Sea\
 , QC J0X 1C0;X-APPLE-RADIUS=72;X-TITLE=Cabane à sucre Domaine du Cerf:46.
 160115;-76.097554
END:VEVENT
END:VCALENDAR