BEGIN:VCALENDAR
VERSION:2.0
PRODID:Events Booking
BEGIN:VEVENT
UID:69eac234b8602
SUMMARY:REPORTÉ Visite à la Papillonnerie de la Ferme Guyon et pique-niqu
 e à Chambly
DESCRIPTION:EVÉNEMENT REPORTÉ - 
DTSTART:20240518T040000Z
DTEND:20240518T040000Z
DTSTAMP:20240321T062931Z
ORGANIZER;CN=Divertissement:MAILTO:divertissement@clubmustangoutaouais.ca
END:VEVENT
END:VCALENDAR