BEGIN:VCALENDAR
VERSION:2.0
PRODID:Events Booking
BEGIN:VEVENT
UID:69eade108af78
SUMMARY:Boston Pizza Cruise Night - Rockland
DESCRIPTION:
DTSTART:20240520T203000Z
DTEND:20240520T233000Z
DTSTAMP:20240321T063318Z
ORGANIZER;CN=Divertissement:MAILTO:divertissement@clubmustangoutaouais.ca
END:VEVENT
END:VCALENDAR