BEGIN:VCALENDAR
VERSION:2.0
PRODID:Events Booking
BEGIN:VEVENT
UID:69eadf46e0350
SUMMARY:Salon de la Voiture Électrique Gatineau 
DESCRIPTION:https://www.facebook.com/salonelectriqueoutaouais
 Salon du V
 éhicule Électrique de L'Outaouais
 Complexe Branchaud-Brière - 499 Bd 
 Labrosse #100\, Gatineau\, QC \, Gatineau\, QC\, Canada\, Quebec
 
DTSTART:20240405T140000Z
DTEND:20240407T210000Z
DTSTAMP:20240404T032245Z
ORGANIZER;CN=Divertissement:MAILTO:divertissement@clubmustangoutaouais.ca
END:VEVENT
END:VCALENDAR