BEGIN:VCALENDAR
VERSION:2.0
PRODID:Events Booking
BEGIN:VEVENT
UID:69eaeaed74e9a
SUMMARY:JOURNÉE DYNO MUSTANG
DESCRIPTION:EN PARTENARIAT AVEC LE OTTAWA MUSTANG CLUB ET LE CLUB MUSTANG 
 OUTAOUAIS
  
 Date : 9 juin 2024Heures : 10h00 à 17h00Endroit : 2535\,
  rue Blackwell\, unité 108\, Ottawa\, On Éligibilité : Tous sont bienve
 nus!Inscription : Uniquement nécessaire pour les essais de référence - 
 venez regarder et vous amuser gratuitement!
 ActivitéEssais sur banc d'e
 ssai : Essais de référence pour 10 personnes inscrites (plus si le temps
  le permet).
 Dyno Tuning : Un membre chanceux d’un des clubs recevra u
 n Dyno Tuning personnalisé GRATUIT.
 Adhésion aux clubs : Profiter de l
 ’occasion pour devenir membre du Ottawa Mustang Club (OMC) et/ou du Club
  Mustang Outaouais (CMO) lors de cette activité.
 BBQ : Hot-dogs\, hambu
 rgers\, boissons et collations. Tous les profits sont versés à une œuvr
 e de bienfaisance locale.
 Nota : L'événement dure toute la journée (1
 0H00-17h00) - il serait bon d'apporter une chaise pliante.
 TESTS DE BASE
  - DIRECTIVES DE PARTICIPATION :Découvrez la puissance de votre Mustang! 
 Nous installerons votre voiture sur notre banc d'essai de châssis personn
 alisé et effectuerons trois passages consécutifs. Une fois les tests ter
 minés\, nous vous fournirons un rapport précis indiquant la puissance et
  le couple produits par votre Mustang!
 Cliquez sur ce lien pour voir les
  détails intéressants JOURNÉE DYNO MUSTANG (site web en anglais).
 Vo
 ici ce que vous devez savoir :Nous effectuerons des tests de base sur 10 M
 ustangs lors de la Journée Dyno (plus si le temps le permet).
 Tous les 
 propriétaires de Mustang\, qu'ils soient membres ou non du OMC ou du CMO\
 , peuvent s'inscrire.
 Le prix d’un essai de référence lors de la Jou
 rnée Dyno est de 100 $ (le prix normal de cet essai est normalement de 25
 0 $).
 Pour vous inscrire à un essai de référence (dyno test)\, vous d
 evez soumettre ce formulaire d'inscription en ligne avant le 31 mai. Formu
 laire d'inscription en ligne (formulaire en anglais)
 Les participants s
 électionnés seront informés au plus tard le 3 juin. Les frais d'inscrip
 tion de 100 $ doivent être reçus dans les 48 heures suivantes et peuvent
  être réglés par carte de crédit ou par virement électronique.
 Vous
  devez être le propriétaire enregistré et présenter l'immatriculation 
 de votre Mustang lors de la Journée Dyno pour participer à l’essai de 
 référence.
 Tous les participants DOIVENT remplir une liste de contrôl
 e de sécurité et un formulaire de décharge de responsabilité.
 Je vou
 s demanderais à tous les gens qui se rendront pour cette activité de con
 firmer votre présence pour cette journée en vous inscrivant à l’évé
 nement sur notre site web https://www.clubmustangoutaouais.ca/fr/calendrie
 r/activites-du-cmo/716-journee-dyno-mustang
 Merci à Daniel Ricard pour 
 la traduction en français.
  
LOCATION:2535 Blackwell Street\, Unit 108\, Ottawa\, Ontario 
DTSTART:20240609T140000Z
DTEND:20240609T210000Z
DTSTAMP:20240411T065602Z
ORGANIZER;CN=Divertissement:MAILTO:divertissement@clubmustangoutaouais.ca
GEO:45.405945;-75.611802
X-APPLE-STRUCTURED-LOCATION;VALUE=URI;X-ADDRESS=2535 Blackwell Street\, Uni
 t 108\, Ottawa\, Ontario ;X-APPLE-RADIUS=72;X-TITLE=International Dyno Aut
 hority FR:45.405945;-75.611802
END:VEVENT
END:VCALENDAR