BEGIN:VCALENDAR
VERSION:2.0
PRODID:Events Booking
BEGIN:VEVENT
UID:69eaeebc69cef
SUMMARY:Pique-nique Parc Hardy Brockville
DESCRIPTION:SAMEDI 15 JUIN 2024\, 
 Pique-nique au parc Hardy à Brockvil
 le par l’autoroute des Mille-Iles\, Long-Sault\, les écluses Iroquois e
 t tunnel de la voie ferrée de Brockville\, Brock Trail pour les intéress
 és et Cowan’s Dairy (parking accessible par la rue Henry à l’ouest d
 u parc)
 Vous pouvez télécharger l'itinéraire en vous connectant avec 
 votre identifiant. 
LOCATION:Brockville\, ON K6V 6M4
DTSTART:20240615T130000Z
DTEND:20240615T210000Z
DTSTAMP:20240411T081343Z
ORGANIZER;CN=Divertissement:MAILTO:divertissement@clubmustangoutaouais.ca
GEO:44.586257;-75.687639
X-APPLE-STRUCTURED-LOCATION;VALUE=URI;X-ADDRESS=Brockville\, ON K6V 6M4;X-A
 PPLE-RADIUS=72;X-TITLE=Parc Hardy - Brockville:44.586257;-75.687639
END:VEVENT
END:VCALENDAR