BEGIN:VCALENDAR
VERSION:2.0
PRODID:Events Booking
BEGIN:VEVENT
UID:69eaeb210d91f
SUMMARY:Exposition de voitures et bénédiction - Blue Sea
DESCRIPTION:
LOCATION:10 rue Principale\, Blue Sea\, Qc\, J0X 1C0
DTSTART:20240714T130000Z
DTEND:20240714T210000Z
DTSTAMP:20240411T082920Z
ORGANIZER;CN=Divertissement:MAILTO:divertissement@clubmustangoutaouais.ca
GEO:46.182745;-76.059413
X-APPLE-STRUCTURED-LOCATION;VALUE=URI;X-ADDRESS=10 rue Principale\, Blue Se
 a\, Qc\, J0X 1C0;X-APPLE-RADIUS=72;X-TITLE=Blue Sea en fête:46.182745;-76
 .059413
END:VEVENT
END:VCALENDAR