BEGIN:VCALENDAR
VERSION:2.0
PRODID:Events Booking
BEGIN:VEVENT
UID:69eaead89b30c
SUMMARY:NOUVEAU - Randonnée - Visite Intermiel
DESCRIPTION:
 Une nouvelle destination \, je vous encourage de joindre le
  groupe qui se rendra pour cette belle visite\, qui en passant est très 
 éducative.
 De mai à octobre venez découvrir le monde des abeilles dan
 s notre domaine champêtre. Guidé par un apiculteur passionné\, vous dé
 couvrirez à chaque atelier\, un monde bourdonnant qu’est celui des abei
 lles.
 Note: pas possible de commander de la nourriture sur place\, alors
  apporter votre lunch pour un pique-nique.
LOCATION:10291\, rang de la Fresnière\, Mirabel\, Saint-Benoît QC J7N 3M3
DTSTART:20240629T130000Z
DTEND:20240629T200000Z
DTSTAMP:20240618T055142Z
ORGANIZER;CN=Divertissement:MAILTO:divertissement@clubmustangoutaouais.ca
GEO:45.569297;-74.077147
X-APPLE-STRUCTURED-LOCATION;VALUE=URI;X-ADDRESS=10291\, rang de la Fresniè
 re\, Mirabel\, Saint-Benoît QC J7N 3M3;X-APPLE-RADIUS=72;X-TITLE=Intermie
 l:45.569297;-74.077147
END:VEVENT
END:VCALENDAR