BEGIN:VCALENDAR
VERSION:2.0
PRODID:Events Booking
BEGIN:VEVENT
UID:69eaee3a8dc8f
SUMMARY:Randonnée aux pommes et pique-nique - La Ferme d'Orléans et Photo
  de voitures
DESCRIPTION: ACTIVITÉ À NE PAS MANQUER - ON S'INSCRIT RAPIDEMENT\, IL NE
  RESTE QUE QUELQUES JOURS
 Point de rencontre 200 Gréber à 09h00\, dim
 anche 8 septembre 2024
 Présentation par notre amie Sylvie Henrie qui no
 us fera découvrir la ferme ou elle a grandit\, une grande connaissante de
  fruits et légumes!
 Randonnée aux pommes et pique-nique sur place
 Or
 leans Fruit Farm 1399 St. Joseph Blvd\, Orleans\, On
 Quand: dimanche 8 
 septembre à 10h00
 10h00: Arrivée des membres du Club
 10h05 à 10h30:
  Présentation du verger par Sylvie
 10h30 à 12h00: Auto-cueillette de p
 ommes
 12h00 à 14h30: Pique-nique dans la grange
 Photographie de votre
  voiture en après-midi
 Le départ se fera de Orleans Fruit Farm\, 1399 
 St. Joseph Blvd\, Orleans\, On https://maps.app.goo.gl/We9qQUr1BiXWSiFF8 p
 our se rendre à un endroit pré-déterminé par Kaan qui sera non-loin de
  la ferme et où les feuilles d'automne seront visibles. Même si vous n'
 êtes pas disponibles pour les pommes le matin\, vous pouvez vous présent
 er pour la photo!
 Quand: dimanche 8 septembre à 13h30 (donc départ un 
 peu plus tôt du pique-nique)
 Kaan\, un de nos membres qui est photograp
 he professionnel offre cette session de photo à quiconque serait intéres
 sé. 
 La session de photo inclura : 5 - Images digitales éditées (que 
 vous pourrez télécharger avec un lien qui vous sera fourni)1 - 8x10 impr
 imé (des photos additionnelles sont disponibles à un prix modique)Coût:
  $50.00 + taxes (Payable à Kaan Bayulken par virement Interac ou comptan
 t)
 Détails importants pour la session photo:
 Nettoyez la voiture: Vou
 s pourrez apporter vos produits de nettoyage afin de mettre la touche fina
 le sur votre voiture sur place.Positionnement sur le site: Kaan vous indiq
 uera où et comment placer votre voiture pour de superbes photos!
 Inscri
 ption: si vous êtes intéressé à la session de photo\, assurez-vous de 
 vous inscrire en ligne directement sur la page de Kaan au lien suivant: ww
 w.kbproductioncanada.ca et cliquez sur \"Automotive\" et \"Book\". Le Club
  ne gérera pas les inscriptions pour cette activité.
 Merci et au plais
 ir de vous voir en grand nombre dimanche!!
LOCATION:1399 St Joseph Blvd\, Ottawa\, ON K1C 7K9
DTSTART:20240908T133000Z
DTEND:20240908T190000Z
DTSTAMP:20240618T060424Z
ORGANIZER;CN=Divertissement:MAILTO:divertissement@clubmustangoutaouais.ca
GEO:45.457577;-75.568185
X-APPLE-STRUCTURED-LOCATION;VALUE=URI;X-ADDRESS=1399 St Joseph Blvd\, Ottaw
 a\, ON K1C 7K9;X-APPLE-RADIUS=72;X-TITLE=La Ferme d'Orléans:45.457577;-75
 .568185
END:VEVENT
END:VCALENDAR