BEGIN:VCALENDAR
VERSION:2.0
PRODID:Events Booking
BEGIN:VEVENT
UID:69ead95a6932a
SUMMARY:Napierville piste accélération - Spécial Mustang
DESCRIPTION:
LOCATION:15 Rang Saint-André\, Napierville\, QC J0J 1L0
DTSTART:20240630T040000Z
DTEND:20240630T040000Z
DTSTAMP:20240618T064632Z
ORGANIZER;CN=Divertissement:MAILTO:divertissement@clubmustangoutaouais.ca
GEO:45.192325;-73.452306
X-APPLE-STRUCTURED-LOCATION;VALUE=URI;X-ADDRESS=15 Rang Saint-André\, Napi
 erville\, QC J0J 1L0;X-APPLE-RADIUS=72;X-TITLE=Piste d'accélération Napi
 erville:45.192325;-73.452306
END:VEVENT
END:VCALENDAR