BEGIN:VCALENDAR
VERSION:2.0
PRODID:Events Booking
BEGIN:VEVENT
UID:69eaeaecdbcc6
SUMMARY:Vignoble StoneCropAcres
DESCRIPTION:Les Mustangers\, ne manquez pas cette randonnée\, cette journ
 ée fut entièrement organisée par Diane et Bear Paquette. Votre dévouem
 ent est un bel exemple de votre fierté à partager vos efforts au soutien
  du Club Mustang Outaouais.
 Allons les Amis\, participons à cette belle
  journée pour remercier Diane et Bear pour l'organisation de cette belle 
 sortie en famille Mustang.
 Vous trouverez tous les détails de cette bel
 le journée lorsque vous aurez accéder à votre compte.
LOCATION:5242 Smiths Rd\, Morrisburg\, ON K0C 1X0
DTSTART:20240727T040000Z
DTEND:20240727T040000Z
DTSTAMP:20240618T071531Z
ORGANIZER;CN=Divertissement:MAILTO:divertissement@clubmustangoutaouais.ca
GEO:44.879817;-75.236984
X-APPLE-STRUCTURED-LOCATION;VALUE=URI;X-ADDRESS=5242 Smiths Rd\, Morrisburg
 \, ON K0C 1X0;X-APPLE-RADIUS=72;X-TITLE=Vignoble StoneCropAcres :44.879817
 ;-75.236984
END:VEVENT
END:VCALENDAR