BEGIN:VCALENDAR
VERSION:2.0
PRODID:Events Booking
BEGIN:VEVENT
UID:69eaebce502a2
SUMMARY:Meat and Grease pour Institut de cardiologie Ottawa
DESCRIPTION:Allons encourager notre commanditaire pour cette bonne cause ! 
 Seulement quelques heures et des beaux prix de présence !! 
  
 Join 
 us at Meat and Grease Ottawa on July 21st! 
  
 Get ready for a thrill
 ing car show featuring classics and sports cars\, all for a great cause. W
 e're raising funds for The Ottawa Heart Institute! 
 Indulge in food\, r
 efreshing drinks\, and the chance to win exciting door prizes. Plus\, don'
 t miss out on our thrilling 50/50 draw and a silent auction filled with fa
 ntastic items.
  
 Groove to the beat of music and immerse yourself in 
 the electrifying atmosphere. And here's a special treat for all the car en
 thusiasts the rev battle\, where engines roar and adrenaline soars!
  

  Don't miss out on this exciting event. Tickets are only $10 per car. Mar
 k your calendars and let's make a difference together!
 Meat and Grease O
 ttawa is apart of Derand Motorsports 2024 car show series.
 Meat and Grea
 se Ottawa is a family organized Car show in Canadas capital since 2017.
 
 Website: ww.meatandgrease.ca
  
 Address: 1231 Newmarket street Ottawa
  OntarioPhone: 613-563-0029
 No revving or two stepping unless you are pa
 rticipating in the engine sound off compilation at the time of the event.
 
 Please no burnouts on the show property.
  
 Meat and Grease for the 
 Ottawa Heart Institute
LOCATION:1231 Newmarket St C\, Ottawa\, ON K1B 5N6
DTSTART:20240721T160000Z
DTEND:20240721T200000Z
DTSTAMP:20240716T072430Z
ORGANIZER;CN=Divertissement:MAILTO:divertissement@clubmustangoutaouais.ca
GEO:45.411175;-75.619026
X-APPLE-STRUCTURED-LOCATION;VALUE=URI;X-ADDRESS=1231 Newmarket St C\, Ottaw
 a\, ON K1B 5N6;X-APPLE-RADIUS=72;X-TITLE=Derand Derand:45.411175;-75.61902
 6
END:VEVENT
END:VCALENDAR