BEGIN:VCALENDAR
VERSION:2.0
PRODID:Events Booking
BEGIN:VEVENT
UID:69eadc7656735
SUMMARY:Exposition Voitures antiques - Maniwaki
DESCRIPTION:
LOCATION:274 Rue des Oblats\, Maniwaki\, QC J9E 1G7
DTSTART:20240824T040000Z
DTEND:20240824T040000Z
DTSTAMP:20240716T083635Z
ORGANIZER;CN=Divertissement:MAILTO:divertissement@clubmustangoutaouais.ca
GEO:46.383519;-75.974682
X-APPLE-STRUCTURED-LOCATION;VALUE=URI;X-ADDRESS=274 Rue des Oblats\, Maniwa
 ki\, QC J9E 1G7;X-APPLE-RADIUS=72;X-TITLE=Site des Trois Cloches:46.383519
 ;-75.974682
END:VEVENT
END:VCALENDAR