BEGIN:VCALENDAR
VERSION:2.0
PRODID:Events Booking
BEGIN:VEVENT
UID:69eaded18b7ff
SUMMARY:Exposition de voitures F Montgolfières G
DESCRIPTION:Exposition de voitures Festival Montgolfières Gatineau 2024
 
 https://www.facebook.com/groups/166049653131536/?multi_permalinks=42818525
 6917973&amp\;ref=share
 Formulaire d'inscription
 https://docs.google.co
 m/forms/d/e/1FAIpQLSel9tbWEFbKJD6Grqta64u5TFuEe7tcZTbD1AglBLmUpKr41g/viewf
 orm
 Vous porrez vous inscrire pour 31 août\, le 1 sept ou les deux:Same
 di le 31 août (12h à 16h)Dimanche le 1er septembre (12h à 16h)Les deux 
 journées (12h à 16h)
 
 
 
 
 
 
 Cynthia Lamoureux Lévesque Ex
 position de voitures FMG 2024
 
 
 
 
 
 
 
 
 
 
 
 
 Bonjou
 r\,
 
 
 Je me présente pour ceux et celles qui n'ont pas eu la chance
  de nous rencontrer (moi et Dan Savard)\, nous sommes les responsables du 
 comité d'exposition de voitures 2024 au FMG qui se tiendra le 31 août et
  le 1er septembre de 12h à 16h.
 
 
 La participation est GRATUITE! Ch
 acun recevra deux accès quotidien au site du festival pour les journées 
 que vous allez être présent lors de l'exposition de voitures (exemple: s
 i vous êtes présent le 31 et le 1er\, vous recevrez un billet pour ces 2
  journées\, si vous n'êtes que présent le 1er\, vous recevrez un billet
  seulement pour cette journée). Le public pourra voter pour sa voiture fa
 vorite et les vainqueurs se feront remettre un ou des prix.
 
 
 L’em
 placement et l’entrée seront à la même place que l’an passé. Je va
 is quand même vous repréciser l’emplacement et l’entrée quelques jo
 urs avant le 31 août.
 
 
 Tout ceux qui souhaite faire parti de cette
  exposition doivent OBLIGATOIREMENT remplir ce formulaire avant le 30 aoû
 t.
 
 
 N'hésitez pas à m'écrire si vous avez des questions et bonne
  journée 
 
 
 
 
 
 
DTSTART:20240831T160000Z
DTEND:20240901T200000Z
DTSTAMP:20240826T203458Z
ORGANIZER;CN=Divertissement:MAILTO:divertissement@clubmustangoutaouais.ca
END:VEVENT
END:VCALENDAR