BEGIN:VCALENDAR
VERSION:2.0
PRODID:Events Booking
BEGIN:VEVENT
UID:69eade48cacb3
SUMMARY:HAWKESBURY AUTO EXPO MAIN STREET
DESCRIPTION:https://www.facebook.com/events/247574461731323
 Nous recueill
 ons des denrées non périsable et des donations monétaires pour la Banqu
 e alimentaire de Hawkesbury
 DIMANCHE 1 SEPT AUTO EXPO
  Marché aux pu
 ces 8am | Ouverture du bureau de l'enregistrement près du 173\, rue Main
  est ($20) NOUVEAU! INSCRIPTION DES VÉHICULES JUSQUA CAPACITÉE Midi 20
  tirages d’argent à midi 13h Choix 25 Favoris RUBAN Après-midi | Spe
 ctacles de groupes musicaux sur différentes scènes. Railroad Sinners et 
 Timeless 3 pm | Tirage 50/50 | Tirage de participation | 2x $1000 | 2x $5
 00 | Tirage de la Banque Alimentaire Centrale de Hawkesbury 4pm Fermeture
  du site Certains détails peuvent changer sans préavisAVIS DE TEMPS VIO
 LENT PEU AFFECTER LA PROGRAMMATION INCLUANT LA CANCELLATION
LOCATION:Hawkesbury\, Ont
DTSTART:20240901T120000Z
DTEND:20240901T200000Z
DTSTAMP:20240828T064104Z
ORGANIZER;CN=Divertissement:MAILTO:divertissement@clubmustangoutaouais.ca
GEO:45.608186;-74.617342
X-APPLE-STRUCTURED-LOCATION;VALUE=URI;X-ADDRESS=Hawkesbury\, Ont;X-APPLE-RA
 DIUS=72;X-TITLE=Hawkesbury\, Ontario:45.608186;-74.617342
END:VEVENT
END:VCALENDAR