BEGIN:VCALENDAR
VERSION:2.0
PRODID:Events Booking
BEGIN:VEVENT
UID:69eaeaec62d6b
SUMMARY:Invitation Exposition d'autos Mont Blanc
DESCRIPTION:
 INVITATION aux clubs automobiles!
 Organisez un rassembleme
 nt automobiles au cœur de notre station.
 Située dans un cadre magnifiq
 ue avec des infrastructures spacieuses\, notre station dispose d'un vaste 
 stationnement qui se prêterait parfaitement à un rassemblement. Une occa
 sion de vous réunir dans un cadre unique et de partager votre passion pou
 r les voitures.
 
 
 Détails de l'événement :
 *Dates proposées : 
 5 ou 6 oct. et 12-13-14 oct.
 *Lieu : 1006\, rt 117 Mont-Blanc\, Station 
 de ski\, stationnement devant le chalet
 *Capacité du stationnement :(38
 0 places)
 *Options de restauration sur place : Food truck\, bar extérie
 ur\, toilette\, jeu gonflable musique\, remontée pour les couleurs en op
 ération
 *Cadeaux offerts aux membres des clubs qui exposent leur véhic
 ule.
 
 
 Pour toutes questions\, écrivez à groupes@skimontblanc.com
 
 
LOCATION:1006 Rte 117 Mont-Blanc\, Quebec J0T 2G0 Canada
DTSTART:20241005T160000Z
DTEND:20241006T210000Z
DTSTAMP:20241003T072051Z
ORGANIZER;CN=Divertissement:MAILTO:divertissement@clubmustangoutaouais.ca
GEO:46.109054;-74.4867
X-APPLE-STRUCTURED-LOCATION;VALUE=URI;X-ADDRESS=1006 Rte 117 Mont-Blanc\, Q
 uebec J0T 2G0 Canada;X-APPLE-RADIUS=72;X-TITLE=Station Ski Mont Blanc:46.1
 09054;-74.4867
END:VEVENT
END:VCALENDAR