BEGIN:VCALENDAR
VERSION:2.0
PRODID:Events Booking
BEGIN:VEVENT
UID:69eaeb016e277
SUMMARY:Déjeuner/brunch & Pêche sur glace
DESCRIPTION:Bonjour à tous ! Nous sommes heureux de vous informer que vous
  pouvez maintenant vous inscrire pour la première activité du Club pour 
 2025 ! Nous aimerions vous inviter à un déjeuner/brunch qui aura lieu le
  25 janvier prochain suivi d'une activité de pêche sur glace (permis de 
 pêche obligatoire).   
 Voir tous les détails dans le document en pi
 èce jointe.
 Nous vous encourageons à vous joindre en grand nombre\, ve
 uillez confirmer la participation pour une des deux activités ou les deu
 x lors de votre inscription .  Une belle occasion de se revoir en ce déb
 ut d'année 2025. 
LOCATION:845\, Masson Road\, Gatineau\, QC J8M 1B2
DTSTART:20250125T150000Z
DTEND:20250125T230000Z
DTSTAMP:20250114T072641Z
ORGANIZER;CN=Divertissement:MAILTO:divertissement@clubmustangoutaouais.ca
GEO:45.546771;-75.423436
X-APPLE-STRUCTURED-LOCATION;VALUE=URI;X-ADDRESS=845\, Masson Road\, Gatinea
 u\, QC J8M 1B2;X-APPLE-RADIUS=72;X-TITLE=Resto Bar au Max Gatineau (Masson
 ).:45.546771;-75.423436
END:VEVENT
END:VCALENDAR