BEGIN:VCALENDAR
VERSION:2.0
PRODID:Events Booking
BEGIN:VEVENT
UID:69eaeb20c6c65
SUMMARY:Rencontre - Souper Restaurant Casa Grecque
DESCRIPTION:Profitons tous d'une belle occasion pour se rencontrer avec un 
 bon souper à la Casa Grecque ! Faites vites les places sont limitées !

  https://casagrecque.ca/menu-salle-a-manger/
 Pour des infos supplémenta
 ires\, faire suivre un courriel à divertissement@clubmustangoutaouais.ca
 
  
  
  
  
LOCATION:85 Rue Bellehumeur\, Gatineau\, QC J8T 6K5
DTSTART:20250222T230000Z
DTEND:20250223T020000Z
DTSTAMP:20250118T220641Z
ORGANIZER;CN=Divertissement:MAILTO:divertissement@clubmustangoutaouais.ca
GEO:45.476024;-75.69394
X-APPLE-STRUCTURED-LOCATION;VALUE=URI;X-ADDRESS=85 Rue Bellehumeur\, Gatine
 au\, QC J8T 6K5;X-APPLE-RADIUS=72;X-TITLE=Restaurant Casa Grec Gatineau:45
 .476024;-75.69394
END:VEVENT
END:VCALENDAR