BEGIN:VCALENDAR
VERSION:2.0
PRODID:Events Booking
BEGIN:VEVENT
UID:69eadb2d3b168
SUMMARY:Expo Habitat Outaouais
DESCRIPTION:Expo habitat Outaouais\, le plus important événement en habi
 tation depuis plus de 37 ans !
 Centre Slush Puppie500\, boul. de la Cit
 éGatineau (Québec) J8T 0H4
 https://expohabitatoutaouais.com/
DTSTART:20250214T170000Z
DTEND:20250216T220000Z
DTSTAMP:20250123T055130Z
ORGANIZER;CN=Divertissement:MAILTO:divertissement@clubmustangoutaouais.ca
END:VEVENT
END:VCALENDAR