BEGIN:VCALENDAR
VERSION:2.0
PRODID:Events Booking
BEGIN:VEVENT
UID:69eaad8855584
SUMMARY:*NOUVEAU* Événement Accros aux Mustang
DESCRIPTION:Événement Accros aux Mustang 3ième Édition
 Park Lane Caf
 é 1092 rue Jacques-Cartier S  St-Jean-sur-Richelieu
  
 Très grand ra
 ssemblement de Mustang\, plusieurs clubs impliqués\, kiosques\, nombreux 
 tirages\, spectacle Jack Fever en rappel\, Présentation spéciale Record 
 mondial 2024\, cantine\, village rétro réaménagé\, divertissements con
 tinuels\, certificat spécial pour tous les propriétaires de Mustang
 11
  juillet 2026
 https://www.facebook.com/photo?fbid=1459216619539461&amp\;
 set=a.748603163934147
 https://www.facebook.com/profile.php?id=1000635340
 94210
  
 Toutes questions seront soumis à randonnee@clubmustangoutao
 uais.ca
 Itinéraire révisée en pièce jointe
LOCATION:Park Lane Café 1092 rue Jacques-Cartier S St-Jean-sur-Richelieu
DTSTART:20260711T130000Z
DTEND:20260711T200000Z
DTSTAMP:20250204T082639Z
ORGANIZER;CN=Divertissement:MAILTO:divertissement@clubmustangoutaouais.ca
GEO:45.2475;-73.257775
X-APPLE-STRUCTURED-LOCATION;VALUE=URI;X-ADDRESS=Park Lane Café 1092 rue Ja
 cques-Cartier S St-Jean-sur-Richelieu;X-APPLE-RADIUS=72;X-TITLE=Park Lane 
 Café St-Jean-sur-Richelieu:45.2475;-73.257775
END:VEVENT
END:VCALENDAR