BEGIN:VCALENDAR
VERSION:2.0
PRODID:Events Booking
BEGIN:VEVENT
UID:69eaeb0217375
SUMMARY:Randonnée à Calabogie et Smith Falls
DESCRIPTION:Randonnée à Calabogie et Smith Falls – 3 mai 2025
  
  
 *** ITINÉRAIRE MODIFIÉ EN PIÈCE JOINTE *** 
  
 Activité durant la
 quelle nous découvrirons dans la pittoresque région de Madawaska avant d
 e visiter la piste de course à Calabogie puis de piqueniquer en route  U
 n arrêt à Smith Falls est prévu afin de contempler les attraits du Cana
 l Rideau et ensuite se rendre à la Fromagerie St-Albert pour se régaler.
  J 
 L’itinéraire est disponible en pièce jointe   Point de dép
 art: 200 Gréber @ 08h30
  
 Pour infos supplémentaires communiquer av
 ec Sylvain Fontaine\, responsable des randonnées par courriel à randonne
 e@clubmustangoutaouais.ca
DTSTART:20250503T120000Z
DTEND:20250503T220000Z
DTSTAMP:20250204T083507Z
ORGANIZER;CN=Divertissement:MAILTO:divertissement@clubmustangoutaouais.ca
END:VEVENT
END:VCALENDAR