BEGIN:VCALENDAR
VERSION:2.0
PRODID:Events Booking
BEGIN:VEVENT
UID:69eadf52a8281
SUMMARY:Le Salon du véhicule et loisir électrique de l’Outaouais 
DESCRIPTION:
LOCATION:499 Bd Labrosse\, Gatineau\, QC J8P 4R1
DTSTART:20250411T150000Z
DTEND:20250413T210000Z
DTSTAMP:20250206T021022Z
ORGANIZER;CN=Divertissement:MAILTO:divertissement@clubmustangoutaouais.ca
GEO:45.497876;-75.644109
X-APPLE-STRUCTURED-LOCATION;VALUE=URI;X-ADDRESS=499 Bd Labrosse\, Gatineau\
 , QC J8P 4R1;X-APPLE-RADIUS=72;X-TITLE=COMPLEXE BRANCHAUD-BRIÈRE – GATI
 NEAU:45.497876;-75.644109
END:VEVENT
END:VCALENDAR