BEGIN:VCALENDAR
VERSION:2.0
PRODID:Events Booking
BEGIN:VEVENT
UID:69eadae030105
SUMMARY:Tir de tracteurs - Camions
DESCRIPTION:The QTTP is excited to announce that the 2025 Quyon Tractor and
  Truck Pull will be held on July 5\, 2025 at the Quyon Municipal Grounds.
 
 https://www.facebook.com/groups/933868630091951
LOCATION:24 Rue Ferry\, Quyon\, QC J0X 2V0
DTSTART:20250705T120000Z
DTEND:20250705T220000Z
DTSTAMP:20250207T092907Z
ORGANIZER;CN=Divertissement:MAILTO:divertissement@clubmustangoutaouais.ca
GEO:45.520559;-76.230506
X-APPLE-STRUCTURED-LOCATION;VALUE=URI;X-ADDRESS=24 Rue Ferry\, Quyon\, QC J
 0X 2V0;X-APPLE-RADIUS=72;X-TITLE=Tir de Camions et Tracteurs:45.520559;-76
 .230506
END:VEVENT
END:VCALENDAR