BEGIN:VCALENDAR
VERSION:2.0
PRODID:Events Booking
BEGIN:VEVENT
UID:69eadf7c1be73
SUMMARY:7e Rencotre annuelle Meat & Grease Institut de cardiologie  Ottawa
DESCRIPTION:Pour amasser des fonds - Institut de cardiologie de l’Univer
 sité d’Ottawa
 https://www.facebook.com/events/9413658812074869/?acont
 ext=%7B%22event_action_history%22%3A[%7B%22mechanism%22%3A%22attachment%22
 %2C%22surface%22%3A%22newsfeed%22%7D]%2C%22ref_notif_type%22%3Anull%7D
 G
 et ready\, Ottawa! The 7th Annual Meat &amp\; Grease car show is back\, an
 d it’s bigger than ever! Join us on June 29th\, 2025\, from 12-4 PM at D
 erand Motorsport (1231 Newmarket Street) for an unforgettable day of cars\
 , community\, and charity!? What’s Happening?✅ Epic Car Show – Show 
 off your ride or admire some of Ottawa’s finest!? BBQ – Delicious eats
  to fuel your day!? Music &amp\; Vibes – Great tunes and a great atmosph
 ere!? Silent Auction &amp\; 50/50 Draw – Amazing prizes to be won!? Door
  Prizes – You might just walk away with something awesome!All proceeds g
 o to the Ottawa Heart Institute\, so come out\, support a great cause\, an
 d enjoy a day filled with horsepower and heart! ❤️?? Mark your calenda
 rs and spread the word! Let’s make this the best one yet! ??
LOCATION:1231 Newmarket St C\, Ottawa\, ON K1B 5N6
DTSTART:20250629T160000Z
DTEND:20250629T200000Z
DTSTAMP:20250303T031057Z
ORGANIZER;CN=Divertissement:MAILTO:divertissement@clubmustangoutaouais.ca
GEO:45.411175;-75.619026
X-APPLE-STRUCTURED-LOCATION;VALUE=URI;X-ADDRESS=1231 Newmarket St C\, Ottaw
 a\, ON K1B 5N6;X-APPLE-RADIUS=72;X-TITLE=Derand Derand:45.411175;-75.61902
 6
END:VEVENT
END:VCALENDAR