BEGIN:VCALENDAR
VERSION:2.0
PRODID:Events Booking
BEGIN:VEVENT
UID:69eade10be0ff
SUMMARY:Show Carlisle Ford Nationals
DESCRIPTION:CARLISLE FOR NATIONALS
 https://www.facebook.com/photo?fbid=10
 14740617367758&amp\;set=a.552581970250294
 https://carlisleevents.com/eve
 nts/events-detail/index?id=ford+nationals&amp\;fbclid=IwY2xjawI0UeBleHRuA2
 FlbQIxMAABHThPXa7IJlvduVrlFmqr2EHcXSXGCZMshPNpSddH9PdOquoEjPtaAXJ4tQ_aem_2
 rzn3tbP2OBYRWdp3eUing
  
  
LOCATION:1000 Bryn Mawr Road\, Carlisle\, Pennsylvania 17013
DTSTART:20250606T120000Z
DTEND:20250608T220000Z
DTSTAMP:20250305T023622Z
ORGANIZER;CN=Divertissement:MAILTO:divertissement@clubmustangoutaouais.ca
GEO:40.218201;-77.187418
X-APPLE-STRUCTURED-LOCATION;VALUE=URI;X-ADDRESS=1000 Bryn Mawr Road\, Carli
 sle\, Pennsylvania 17013;X-APPLE-RADIUS=72;X-TITLE=Carlisle Fairgrounds:40
 .218201;-77.187418
END:VEVENT
END:VCALENDAR