BEGIN:VCALENDAR
VERSION:2.0
PRODID:Events Booking
BEGIN:VEVENT
UID:69eada8d01136
SUMMARY:2025 Tomlinson Auto Show
DESCRIPTION:
LOCATION:100 Citigate Dr\, Ottawa\, ON K2J 6K7
DTSTART:20250524T130000Z
DTEND:20250524T170000Z
DTSTAMP:20250410T074308Z
ORGANIZER;CN=Divertissement:MAILTO:divertissement@clubmustangoutaouais.ca
GEO:45.271483;-75.790429
X-APPLE-STRUCTURED-LOCATION;VALUE=URI;X-ADDRESS=100 Citigate Dr\, Ottawa\, 
 ON K2J 6K7;X-APPLE-RADIUS=72;X-TITLE=Tomlinson Auto Show:45.271483;-75.790
 429
END:VEVENT
END:VCALENDAR