BEGIN:VCALENDAR
VERSION:2.0
PRODID:Events Booking
BEGIN:VEVENT
UID:69eaee8ec5940
SUMMARY:Exposition Mustang - Provigo Le Marché Eric Charron Aylmer
DESCRIPTION:EXPOSITION DE MUSTANG
  AU
 Provigo Le Marché Éric Charron 
 Aylmer
 375 Chem. d'Aylmer\, Gatineau\, QC J9H 1A5
 Allô les Mustangers
 . joignez-vous à nous pour une exposition de voitures avec vos belles Mus
 tang chez un de nos commanditaires principaux - Provigo Le Marché Éric C
 harron Aylmer - pour une levée de fonds au profit du \"Centre alimentaire
  Aylmer Food Centre\" et le \"Groupe Communautaire Deschènes\". BBQ\, ani
 mation et autre.  De plus amples informations à venir.
 Une belle occas
 ion pour vous les membres du Club Mustang Outaouais de soutenir la communa
 uté alors\, on vous attends en grand nombre!  
 Inscrivez-vous dès mai
 ntenant ce sera une autre belle occasion de fraterniser avec les gens.
 P
 our toute question\, veuillez vous adresser à vp@clubmustangoutaouais.ca
 
  
  
LOCATION:375 ch. d'Alymer\, Aylmer\, Quebec J9H 1A5
DTSTART:20250607T140000Z
DTEND:20250607T200000Z
DTSTAMP:20250527T202413Z
ORGANIZER;CN=Divertissement:MAILTO:divertissement@clubmustangoutaouais.ca
GEO:45.397879;-75.825788
X-APPLE-STRUCTURED-LOCATION;VALUE=URI;X-ADDRESS=375 ch. d'Alymer\, Aylmer\,
  Quebec J9H 1A5;X-APPLE-RADIUS=72;X-TITLE=Provigo Le Marché Éric Charron
  Aylmer:45.397879;-75.825788
END:VEVENT
END:VCALENDAR