BEGIN:VCALENDAR
VERSION:2.0
PRODID:Events Booking
BEGIN:VEVENT
UID:69eaead9588fb
SUMMARY:Assemblée Générale Annuelle - CMO
DESCRIPTION:MESSAGE IMPORTANT - MARQUEZ VOTRE CALENDRIER
  
 INVITATION 
 ASSEMBLÉE GÉNÉRALE ANNUELLE @18H00 - CLUB MUSTANG OUTAOUAIS
 Cabane en
  bois rond\, 331 Boul de la Cité-des-Jeunes\, Gatineau\, QC\, J8Y 6T3
 h
 ttps://cabaneenboisrond.com/
 https://www.facebook.com/cabaneenboisrond/
 
 **** Service de bar disponible sur place! ****
 Un souper de poulet Ben
 ny's vous sera servi gratuitement et il y aura des prix de présence. Veui
 llez réserver votre place avant le 17 octobre car les places sont limité
 s !
  
  
LOCATION:331 Boulevard de la Cité-des-Jeunes\, Gatineau\, Quebec\, J8Y 6T3
DTSTART:20251021T040000Z
DTEND:20251021T040000Z
DTSTAMP:20250825T063853Z
ORGANIZER;CN=Divertissement:MAILTO:divertissement@clubmustangoutaouais.ca
GEO:45.457901;-75.770099
X-APPLE-STRUCTURED-LOCATION;VALUE=URI;X-ADDRESS=331 Boulevard de la Cité-d
 es-Jeunes\, Gatineau\, Quebec\, J8Y 6T3;X-APPLE-RADIUS=72;X-TITLE=Cabane e
 n bois rond1:45.457901;-75.770099
END:VEVENT
END:VCALENDAR