BEGIN:VCALENDAR
VERSION:2.0
PRODID:Events Booking
BEGIN:VEVENT
UID:69eaeada3d060
SUMMARY:Randonnée de couleurs - AMENDÉE
DESCRIPTION:*** HEURE DE DÉPART AMENDÉE ***
  
 JOURNÉE DES COULEURS
 
 Station de ski Mont-Blanc\, Laurentides11 octobre 2025Départ de l'aéro
 port de Gatineau à 09h00 INVITATION aux clubs automobiles!
 Invitation 
 à un rassemblement automobiles au cœur de notre station.Située dans un 
 cadre magnifique avec des infrastructures spacieuses\, notre station dispo
 se d'un vaste stationnement qui se prêterait parfaitement à un rassemble
 ment. 
 Une occasion de vous réunir dans un cadre unique et de partager 
 votre passion pour les voitures.Détails de l'événement :*Lieu : 1006\, 
 rt 117 Mont-Blanc\, Station de ski\, stationnement devant le chalet*Capaci
 té du stationnement :(380 places)*Options de restauration sur place : Foo
 d truck\, bar extérieur\, toilette\, jeu gonflable musique\, remontée po
 ur les couleurs en opération*Cadeaux offerts aux membres des clubs qui ex
 posent leur véhicule : billet de remonté gratuit et une consommation :) 
 Un souper à un restaurant local sera proposé pour les intéressés avant
  le retour.
 Itinéraire: https://maps.app.goo.gl/rrk6PkQoJ5yyu4Ug7
  
LOCATION:1006 Rte 117 Mont-Blanc\, Quebec J0T 2G0 Canada
DTSTART:20251011T130000Z
DTEND:20251011T230000Z
DTSTAMP:20250904T021454Z
ORGANIZER;CN=Divertissement:MAILTO:divertissement@clubmustangoutaouais.ca
GEO:46.109054;-74.4867
X-APPLE-STRUCTURED-LOCATION;VALUE=URI;X-ADDRESS=1006 Rte 117 Mont-Blanc\, Q
 uebec J0T 2G0 Canada;X-APPLE-RADIUS=72;X-TITLE=Station Ski Mont Blanc:46.1
 09054;-74.4867
END:VEVENT
END:VCALENDAR