BEGIN:VCALENDAR
VERSION:2.0
PRODID:Events Booking
BEGIN:VEVENT
UID:69ea9525b2ec4
SUMMARY:Invitation – Soirée hockey et souper
DESCRIPTION:Invitation – Soirée hockey et souper entre amis
  
 Nous 
 avons le plaisir de vous inviter à une soirée conviviale à La Cage – 
 Brasserie Sportive du Plateau pour un souper entre amis\, tout en regardan
 t le match opposant les Canadiens de Montréal aux Capitals de Washington.
   Profitons de cette belle occasion pour passer du bon temps ensemble et
  échanger après ne pas nous être vus depuis le souper de Noël.
 Rése
 rvation : au nom du Club Mustang Outaouais
 ImportantLes inscriptions son
 t ouvertes jusqu’au 15 février 2026.La réservation est limitée à 20 
 personnes\, alors ne tardez pas à confirmer votre présence !Au plaisir d
 e vous voir en grand nombre\,Club Mustang Outaouais
 Pour toutes question
 s\, soumettre un courriel à randonnee@clubmustangoutaouais.ca
 Voir le d
 ocument en pièce jointe.
  
LOCATION:229 Boul des Grives\, Gatineau\, QC J9A 0C7
DTSTART:20260228T234500Z
DTEND:20260301T030000Z
DTSTAMP:20260116T095927Z
ORGANIZER;CN=Divertissement:MAILTO:divertissement@clubmustangoutaouais.ca
GEO:45.433071;-75.783145
X-APPLE-STRUCTURED-LOCATION;VALUE=URI;X-ADDRESS=229 Boul des Grives\, Gatin
 eau\, QC J9A 0C7;X-APPLE-RADIUS=72;X-TITLE=La CAGE - Brasserie sportive:45
 .433071;-75.783145
END:VEVENT
END:VCALENDAR