BEGIN:VCALENDAR
VERSION:2.0
PRODID:Events Booking
BEGIN:VEVENT
UID:69ea985283e9e
SUMMARY:Merrickville Exposition d'autos 2026
DESCRIPTION:EXPOSITION D'AUTOS MERRICKVILLE 2026
 https://www.facebook.com
 /groups/2944247585865230/posts/4008215359468442/
 http://www.antique-show
 s.ca/cars.html
  
 Le Club Mustang Outaouais vous invite à une exposit
 ion d'autos à Merrickville le 28 juin 2026.  Nous vous invitons à appor
 ter votre lunch afin de profiter d'un agréable pique-nique entre Mustange
 rs\, puis prendre le temps de visiter le magnifique village de Merrickvill
 e et ses attractions. 
 Joignez-vous à nous pour une belle journée en 
 famille et entre passionnées de Mustang.
 Au plaisir de vous voir en gra
 nd nombre. 
 Prenez un instant pour vous connecter pour enregistrer votr
 e participation  au plus tard le 19 juin 2026.  Vous trouverez tous les 
 détails pour cette journée ainsi que l'itinéraire. 
 Pour de plus amp
 les informations\, communiquer avec Eric Courroux à l'adresse courriel r
 andonnee@clubmustangoutaouais.ca
  
  
  
  
  
LOCATION:106 Read St\, Merrickville\, ON K0G 1N0
DTSTART:20260628T120000Z
DTEND:20260629T000000Z
DTSTAMP:20260206T050017Z
ORGANIZER;CN=Divertissement:MAILTO:divertissement@clubmustangoutaouais.ca
GEO:44.915359;-75.844735
X-APPLE-STRUCTURED-LOCATION;VALUE=URI;X-ADDRESS=106 Read St\, Merrickville\
 , ON K0G 1N0;X-APPLE-RADIUS=72;X-TITLE=2026 Merrickville Classic Carshow:4
 4.915359;-75.844735
END:VEVENT
END:VCALENDAR