BEGIN:VCALENDAR
VERSION:2.0
PRODID:Events Booking
BEGIN:VEVENT
UID:69eabf2d9d1c5
SUMMARY:2ième Édition Mustang Fest
DESCRIPTION:Randonnée officielle – Mustang Fest Icar Mirabel 2ième Édi
 tion
 https://www.facebook.com/groups/2440952476284745
 Le 8 août 2026\
 , le Club Mustang Outaouais organise une randonnée afin de se rendre au M
 ustang Fest à Icar Mirabel.Profitons de cette deuxième édition pour nou
 s présenter en grand nombre et représenter fièrement notre région ains
 i que notre club.
 Plusieurs membres de notre club ont remporté des prix
  dans leur catégorie respective lors du Show &amp\; Shine l’an dernier.
  Pourquoi ne pas tenter d’en rafler encore davantage cette année ?Vous 
 pouvez apporter votre lunch ou profiter de la nourriture offerte sur place
 .
 En fin de journée\, pour les membres intéressés\, nous pourrions no
 us réunir au restaurant afin de casser la croûte et conclure cette belle
  journée entre passionnés.
 Au plaisir de vous y voir en grand nombre.
 
 Des détails suivront pour les inscriptions.  Pour toutes questions\, c
 ommuniquer avec Eric Courroux à randonnee@clubmustangoutaouais.ca
 Itin
 éraire en pièce jointe. 
  
  
LOCATION:12800 Boul. Henri Fabre\, Mirabel\, Qc J7N 0A6
DTSTART:20260808T120000Z
DTEND:20260808T040000Z
DTSTAMP:20260213T205410Z
ORGANIZER;CN=Divertissement:MAILTO:divertissement@clubmustangoutaouais.ca
GEO:45.685848;-74.026853
X-APPLE-STRUCTURED-LOCATION;VALUE=URI;X-ADDRESS=12800 Boul. Henri Fabre\, M
 irabel\, Qc J7N 0A6;X-APPLE-RADIUS=72;X-TITLE=Complexe ICAR:45.685848;-74.
 026853
END:VEVENT
END:VCALENDAR