BEGIN:VCALENDAR
VERSION:2.0
PRODID:Events Booking
BEGIN:VEVENT
UID:69ea984bca374
SUMMARY:Randonnée Villages Perdus
DESCRIPTION:Invitation : Randonnée vers le Musée des Villages Perdus
 
  https://www.facebook.com/lostvillages
 Le Club Mustang Outaouais vous i
 nvite à une superbe randonnée le 13 juin 2026 vers la destination du Los
 t Villages Museum à Long Sault\, en Ontario.Nous emprunterons un itinéra
 ire panoramique conçu pour profiter pleinement de nos bolides en toute s
 écurité.À notre arrivée au musée\, nous nous rassemblerons pour un pi
 que-nique convivial. Pensez à apporter votre repas ! Après ce moment d'
 échange\, nous visiterons ensemble ce site historique fascinant.
 Le dé
 part pour le retour est prévu vers 15h00. Pour ceux qui souhaitent prolon
 ger la journée\, un souper de groupe pourra être organisé (détails à 
 venir). Au plaisir de vous y voir !
 Pour toutes questions\, communiquer 
 avec Eric Courroux à randonnee@clubmustangoutaouais.ca
 Détails supplé
 mentaires en pièce jointe.  (Login nécessaire).
  
LOCATION:16383 Ault Park Rd\, Long Sault\, ON K0C 1P0
DTSTART:20260613T040000Z
DTEND:20260613T040000Z
DTSTAMP:20260213T212820Z
ORGANIZER;CN=Divertissement:MAILTO:divertissement@clubmustangoutaouais.ca
GEO:45.033019;-74.85456
X-APPLE-STRUCTURED-LOCATION;VALUE=URI;X-ADDRESS=16383 Ault Park Rd\, Long S
 ault\, ON K0C 1P0;X-APPLE-RADIUS=72;X-TITLE=Musée Villages Perdus:45.0330
 19;-74.85456
END:VEVENT
END:VCALENDAR