BEGIN:VCALENDAR
VERSION:2.0
PRODID:Events Booking
BEGIN:VEVENT
UID:69ead4d631e85
SUMMARY:Randonnée Brasserie Artisanale Wilsy
DESCRIPTION:Randonnée Club Mustang Outaouais – Brasserie Artisanale Wils
 y
 https://www.wilsy.ca/
 Le Club Mustang Outaouais vous invite à une r
 andonnée le samedi 19 septembre 2026 pour visiter la Brasserie Artisana
 le Wilsy\, située à St-Placide\, près de Lachute.
 Détails de l’act
 ivité :• Préparer votre lunch : À l’arrivée\, un espace sera prév
 u pour casser la croûte avant de débuter la visite guidée.
 • Visite
  guidée : Découvrez la brasserie et son savoir-faire artisanal.
 • D
 égustation : L’activité est gratuite\, mais si vous souhaitez dégus
 ter les produits de la brasserie\, les coûts seront disponibles sur plac
 e selon la dégustation choisie.
 • Horaire estimé : Départ autour d
 e 15h00 pour un retour en soirée.
 • Option souper : Les membres inté
 ressés pourront terminer la journée avec un souper convivial.
 Venez pr
 ofiter d’une belle sortie entre passionnés de Mustang et découvrir les
  saveurs locales !
 Pour toutes questions\, communiquer avec Eric Courrou
 x randonnee@clubmustangoutaouais.ca
 Vous trouverez les détails de l'it
 inéraire en pièce jointe. (vous devez vous connecter) 
LOCATION:4600 QC-344\, Saint-Placide\, QC J0V 2B0
DTSTART:20260919T130000Z
DTEND:20260919T040000Z
DTSTAMP:20260217T082920Z
ORGANIZER;CN=Divertissement:MAILTO:divertissement@clubmustangoutaouais.ca
GEO:45.535198;-74.255408
X-APPLE-STRUCTURED-LOCATION;VALUE=URI;X-ADDRESS=4600 QC-344\, Saint-Placide
 \, QC J0V 2B0;X-APPLE-RADIUS=72;X-TITLE=Brasserie Wilsy:45.535198;-74.2554
 08
END:VEVENT
END:VCALENDAR